Workbook

Sheet Preset Functions
A1: Calibration Preset Potentiometers
A3: Preset | B3: Description
A4: RV3 | B4: Keyboard Pitch Spread
A5: RV12 | B5: Transpose -2 Octave Tuning
A6: RV13 | B6: Transpose +2 Octave Tuning
A7: RV15 | B7: Triangle Symmetry
A8: RV11 | B8: Square Wave Max PWM Duty Cycle
A9: RV22 | B9: VCA Control Breakthrough
A10: RV20 | B10: VCF Pitch Spread
A11: RV28 | B11: ADSR Alignment (Release Gating)

Sheet Controls
A1: Front Panel Controls
A3: Section | B3: Pot/Switch | C3: Parameter | D3: Ranges
A4: KB | B4: RV2 | C4: Portamento | D4: Fast/Slow
A5: KB | B5: RV4 | C5: Pitch Bend | D5: Down/Up
A6: KB | B6: SW3 | C6: Pitch Control | D6: Norm/New Pitch Detector
A7: OSC VCO | B7: SW4 | C7: VCO Waveform | D7: Tri-Saw/Sq-PWM
A8: OSC VCO | B8: RV14 | C8: VCO Shape | D8: Min/Max
A9: OSC VCO | B9: RV10 | C9: VCO S-OSC Shape | D9: Off/Max
A10: OSC VCO | B10: RV16 | C10: VCO Level | D10: Off/Max
A11: OSC VCO | B11: RV6 | C11: VCO Pitch Noise S&H | D11: Off/Max
A12: OSC VCO | B12: RV7 | C12: VCO Pitch Noise ADSR | D12: Off/Max
A13: OSC VCO | B13: RV8 | C13: VCO Pitch Noise S-OSC Tri | D13: Off/Max
A14: OSC VCO | B14: RV9 | C14: VCO Pitch Noise S-OSC Squ | D14: Off/Max
... A34: ENVELOPE | B34: SW9 | C34: ENV Bypass | D34: On/ADSR

Sheet Initial
A1: Initial Control Positions
A3: =Controls!A3 -> Section | B3: =Controls!B3 -> Pot/Switch | C3: =Controls!C3 -> Parameter | D3: =Controls!D3 -> Ranges | E3: Initial Setup
A4: =Controls!A4 -> KB | B4: =Controls!B4 -> RV2 | C4: =Controls!C4 -> Portamento | D4: =Controls!D4 -> Fast/Slow | E4: CCW
A5: =Controls!A5 -> KB | B5: =Controls!B5 -> RV4 | C5: =Controls!C5 -> Pitch Bend | D5: =Controls!D5 -> Down/Up | E5: MID
A6: =Controls!A6 -> KB | B6: =Controls!B6 -> SW3 | C6: =Controls!C6 -> Pitch Control | D6: =Controls!D6 -> Norm/New Pitch Detector | E6: LEFT
A7: =Controls!A7 -> OSC VCO | B7: =Controls!B7 -> SW4 | C7: =Controls!C7 -> VCO Waveform | D7: =Controls!D7 -> Tri-Saw/Sq-PWM | E7: CCW
A8: =Controls!A8 -> OSC VCO | B8: =Controls!B8 -> RV14 | C8: =Controls!C8 -> VCO Shape | D8: =Controls!D8 -> Min/Max | E8: CCW
A9: =Controls!A9 -> OSC VCO | B9: =Controls!B9 -> RV10 | C9: =Controls!C9 -> VCO S-OSC Shape | D9: =Controls!D9 -> Off/Max | E9: CCW
A10: =Controls!A10 -> OSC VCO | B10: =Controls!B10 -> RV16 | C10: =Controls!C10 -> VCO Level | D10: =Controls!D10 -> Off/Max | E10: CW
A11: =Controls!A11 -> OSC VCO | B11: =Controls!B11 -> RV6 | C11: =Controls!C11 -> VCO Pitch Noise S&H | D11: =Controls!D11 -> Off/Max | E11: CCW
A12: =Controls!A12 -> OSC VCO | B12: =Controls!B12 -> RV7 | C12: =Controls!C12 -> VCO Pitch Noise ADSR | D12: =Controls!D12 -> Off/Max | E12: CCW
A13: =Controls!A13 -> OSC VCO | B13: =Controls!B13 -> RV8 | C13: =Controls!C13 -> VCO Pitch Noise S-OSC Tri | D13: =Controls!D13 -> Off/Max | E13: CCW
A14: =Controls!A14 -> OSC VCO | B14: =Controls!B14 -> RV9 | C14: =Controls!C14 -> VCO Pitch Noise S-OSC Squ | D14: =Controls!D14 -> Off/Max | E14: CCW
... A34: =Controls!A34 -> ENVELOPE | B34: =Controls!B34 -> SW9 | C34: =Controls!C34 -> ENV Bypass | D34: =Controls!D34 -> On/ADSR | E34: RIGHT

Sheet Calibration
A1: Calibration Procedure
A3: ='Preset Functions'!B4 -> Keyboard Pitch Spread
A4: Preset Adjustment | B4: ='Preset Functions'!A4 -> RV3
A5: Set up initial conditions for controls
A6: Scope on High Output
A7: Press Top C
A8: Adjust RV5 so that Scope shows 500Hz
A9: If pot is crackly and unstable choose another frequency
A10: Press key 2 octaves down
A11: Adjust RV3 until 125 Hz is output
A12: Repeatedly strike key to confirm
A13: Check 250 Hz one octave down and 62.5Hz 3 octaves down
A15: ='Preset Functions'!B5 -> Transpose -2 Octave Tuning
A16: =A4 -> Preset Adjustment | B16: ='Preset Functions'!A5 -> RV12
A17: =Controls!C17 -> VCO Transpose | B17: =Controls!B17 -> SW5 | C17: LEFT
A18: Press Top C
A19: Adjust RV12 until scope shows 125Hz
A20: Alternatively by ear, adjust RV12 until 2 oct down SW5 MID and Top C SW5 LEFT are same frequency
A22: ='Preset Functions'!B6 -> Transpose +2 Octave Tuning
A23: =A4 -> Preset Adjustment | B23: ='Preset Functions'!A6 -> RV13
A24: =Controls!C17 -> VCO Transpose | B24: =Controls!B17 -> SW5 | C24: RIGHT
A25: Press Top C
A26: Adjust RV13 until scope shows 2KHz
A27: Alternatively by ear, adjust RV12 until Top C SW5 MID and 2 Oct Down SW5 RIGHT are same frequency
A28: Return SW5 to MID
A30: ='Preset Functions'!B7 -> Triangle Symmetry
A31: =A4 -> Preset Adjustment | B31: ='Preset Functions'!A7 -> RV15
A32: =Controls!C8 -> VCO Shape | B32: =Controls!B8 -> RV14 | C32: CW
A33: Place Scope probe (x10) on junction of R57 & R59
A34: Press Top C
A35: Adjust RV15 until the triangle wave is symmetrical. Use transpose switch to check 2 octaves up and down.
A36: A small negative going spike at the bottom peak will be seen.
A38: ='Preset Functions'!B8 -> Square Wave Max PWM Duty Cycle
A39: =A4 -> Preset Adjustment | B39: ='Preset Functions'!A8 -> RV11
A40: =Controls!C17 -> VCO Transpose | B40: =Controls!B17 -> SW5 | C40: RIGHT
A41: =Controls!C9 -> VCO S-OSC Shape | B41: =Controls!B9 -> RV10 | C41: CCW
A42: =Controls!C8 -> VCO Shape | B42: =Controls!B8 -> RV14 | C42: CW
A43: Place Scope probe (x10) on junction of D13 & D14
A44: Adjust RV11 until nearly 100% duty cycle but with definite negative going spike.
A45: Test duty cycle range approx 45 to 98% by adjusting RV14
...
